BEGIN:VCALENDAR
VERSION:2.0
PRODID:-//California Jail Programs Association - ECPv6.15.20//NONSGML v1.0//EN
CALSCALE:GREGORIAN
METHOD:PUBLISH
X-WR-CALNAME:California Jail Programs Association
X-ORIGINAL-URL:https://cjpa.org
X-WR-CALDESC:Events for California Jail Programs Association
REFRESH-INTERVAL;VALUE=DURATION:PT1H
X-Robots-Tag:noindex
X-PUBLISHED-TTL:PT1H
BEGIN:VTIMEZONE
TZID:UTC
BEGIN:STANDARD
TZOFFSETFROM:+0000
TZOFFSETTO:+0000
TZNAME:UTC
DTSTART:20160101T000000
END:STANDARD
END:VTIMEZONE
BEGIN:VEVENT
DTSTART;TZID=UTC:20180124T100000
DTEND;TZID=UTC:20180126T120000
DTSTAMP:20260424T033050
CREATED:20171107T224333Z
LAST-MODIFIED:20180122T222634Z
UID:557-1516788000-1516968000@cjpa.org
SUMMARY:CJPA- 1st Quarterly Conference for 2018
DESCRIPTION:View the Flyer
URL:https://cjpa.org/event/cjpa-1st-quarterly-conference-2018/
LOCATION:San Bernardino Sheriff’s Office-Glen Helen Regional Center\, 18000 Institution Road\, San Bernardino\, CA\, 92407\, United States
CATEGORIES:Upcoming Events
END:VEVENT
BEGIN:VEVENT
DTSTART;TZID=UTC:20171025T080000
DTEND;TZID=UTC:20171027T170000
DTSTAMP:20260424T033050
CREATED:20170909T000821Z
LAST-MODIFIED:20170909T002705Z
UID:303-1508918400-1509123600@cjpa.org
SUMMARY:CJPA Quarterly Conference
DESCRIPTION:View the Flyer\n\n \n 
URL:https://cjpa.org/event/cjpa-quarterly-conference/
LOCATION:Hotel 1\, Los Angeles\, United States
CATEGORIES:Upcoming Events
ORGANIZER;CN="Kern Sheriff":MAILTO:astorga@kernsheriff.org
END:VEVENT
END:VCALENDAR